BEGIN:VCALENDAR
VERSION:2.0
PRODID:-//Down East Area of Narcotics Anonymous - ECPv6.15.20//NONSGML v1.0//EN
CALSCALE:GREGORIAN
METHOD:PUBLISH
X-WR-CALNAME:Down East Area of Narcotics Anonymous
X-ORIGINAL-URL:https://dea-na.org
X-WR-CALDESC:Events for Down East Area of Narcotics Anonymous
REFRESH-INTERVAL;VALUE=DURATION:PT1H
X-Robots-Tag:noindex
X-PUBLISHED-TTL:PT1H
BEGIN:VTIMEZONE
TZID:America/New_York
BEGIN:DAYLIGHT
TZOFFSETFROM:-0500
TZOFFSETTO:-0400
TZNAME:EDT
DTSTART:20240310T070000
END:DAYLIGHT
BEGIN:STANDARD
TZOFFSETFROM:-0400
TZOFFSETTO:-0500
TZNAME:EST
DTSTART:20241103T060000
END:STANDARD
BEGIN:DAYLIGHT
TZOFFSETFROM:-0500
TZOFFSETTO:-0400
TZNAME:EDT
DTSTART:20250309T070000
END:DAYLIGHT
BEGIN:STANDARD
TZOFFSETFROM:-0400
TZOFFSETTO:-0500
TZNAME:EST
DTSTART:20251102T060000
END:STANDARD
BEGIN:DAYLIGHT
TZOFFSETFROM:-0500
TZOFFSETTO:-0400
TZNAME:EDT
DTSTART:20260308T070000
END:DAYLIGHT
BEGIN:STANDARD
TZOFFSETFROM:-0400
TZOFFSETTO:-0500
TZNAME:EST
DTSTART:20261101T060000
END:STANDARD
END:VTIMEZONE
BEGIN:VEVENT
DTSTART;TZID=America/New_York:20251025T170000
DTEND;TZID=America/New_York:20251025T203000
DTSTAMP:20260425T081018
CREATED:20250924T030738Z
LAST-MODIFIED:20250924T030738Z
UID:1653-1761411600-1761424200@dea-na.org
SUMMARY:10-25-2025 NEW LIFE 32nd GROUP ANNIVERSARY
DESCRIPTION:204 BRINKLEY RD GREENVILLE NC \n5:00pm-8:30pm \nDINNER: 5:00pm-6:45pm \nMEETING: 7:00pm-8:30pm \n••BRING A NEWCOMER••
URL:https://dea-na.org/event/10-25-2025-new-life-32nd-group-anniversary/
CATEGORIES:Down East Area Events
ATTACH;FMTTYPE=image/png:https://dea-na.org/wp-content/uploads/2/2025/09/PSX_20250922_215624.png
END:VEVENT
BEGIN:VEVENT
DTSTART;TZID=America/New_York:20251025T140000
DTEND;TZID=America/New_York:20251025T173000
DTSTAMP:20260425T081018
CREATED:20250924T030211Z
LAST-MODIFIED:20250924T030211Z
UID:1650-1761400800-1761413400@dea-na.org
SUMMARY:10/25/25 LIVING CLEAN 10 YEAR GROUP ANNIVERSARY
DESCRIPTION:Meets Virtually\n https://us02web.zoom.us/j/850918652?pwd=V0FNQmJsL0FMcndVcFR1ZE16V0ZzZz09\n\n\n\n\nID: 850 918 652 \nPW: 936 618 \n2:00pm-5:30pm
URL:https://dea-na.org/event/10-25-25-living-clean-10-year-group-anniversary/
CATEGORIES:Down East Area Events
ATTACH;FMTTYPE=image/png:https://dea-na.org/wp-content/uploads/2/2025/09/PSX_20250923_223621.png
END:VEVENT
BEGIN:VEVENT
DTSTART;TZID=America/New_York:20250322T130000
DTEND;TZID=America/New_York:20250322T180000
DTSTAMP:20260425T081018
CREATED:20250117T024249Z
LAST-MODIFIED:20250117T024249Z
UID:1508-1742648400-1742666400@dea-na.org
SUMMARY:8th Annual March Madness Fish & Shrimp Fry / Speaker Jam
DESCRIPTION:COME OUT FOR OUR 8th ANNUAL MARCH MADNESS SPEAKER JAM / FISH & SHRIMP FRY MARCH 22\,2025 1:00PM – 6:00PMV204 BRINKLY RD. GREENVILLE NC
URL:https://dea-na.org/event/8th-annual-march-madness-fish-shrimp-fry-speaker-jam/
LOCATION:greenville first Pentecostal Holiness church\, 204 Brinkley Rd.\, Greenville\, North Carolina\, 27858
CATEGORIES:Down East Area Events
ATTACH;FMTTYPE=image/png:https://dea-na.org/wp-content/uploads/2/2025/01/PSX_20250116_211909.png
END:VEVENT
END:VCALENDAR